BEGIN:VCALENDAR
VERSION:2.0
PRODID:-//Buck Mountain Episcopal Church - ECPv6.15.20//NONSGML v1.0//EN
CALSCALE:GREGORIAN
METHOD:PUBLISH
X-WR-CALNAME:Buck Mountain Episcopal Church
X-ORIGINAL-URL:https://buckmountainchurch.org
X-WR-CALDESC:Events for Buck Mountain Episcopal Church
REFRESH-INTERVAL;VALUE=DURATION:PT1H
X-Robots-Tag:noindex
X-PUBLISHED-TTL:PT1H
BEGIN:VTIMEZONE
TZID:America/New_York
BEGIN:DAYLIGHT
TZOFFSETFROM:-0500
TZOFFSETTO:-0400
TZNAME:EDT
DTSTART:20250309T070000
END:DAYLIGHT
BEGIN:STANDARD
TZOFFSETFROM:-0400
TZOFFSETTO:-0500
TZNAME:EST
DTSTART:20251102T060000
END:STANDARD
BEGIN:DAYLIGHT
TZOFFSETFROM:-0500
TZOFFSETTO:-0400
TZNAME:EDT
DTSTART:20260308T070000
END:DAYLIGHT
BEGIN:STANDARD
TZOFFSETFROM:-0400
TZOFFSETTO:-0500
TZNAME:EST
DTSTART:20261101T060000
END:STANDARD
BEGIN:DAYLIGHT
TZOFFSETFROM:-0500
TZOFFSETTO:-0400
TZNAME:EDT
DTSTART:20270314T070000
END:DAYLIGHT
BEGIN:STANDARD
TZOFFSETFROM:-0400
TZOFFSETTO:-0500
TZNAME:EST
DTSTART:20271107T060000
END:STANDARD
END:VTIMEZONE
BEGIN:VEVENT
DTSTART;TZID=America/New_York:20260419T091500
DTEND;TZID=America/New_York:20260419T101000
DTSTAMP:20260421T142042
CREATED:20260322T211726Z
LAST-MODIFIED:20260322T211741Z
UID:2261-1776590100-1776593400@buckmountainchurch.org
SUMMARY:Epis-co-Speak
DESCRIPTION:Learn about the words we use in the Episcopal Church and what they mean.
URL:https://buckmountainchurch.org/event/speaking-of-episcopal-things-2/
LOCATION:Buck Mountain Episcopal Church\, 4133 Earlysville Road\, Earlysville\, VA\, 22936\, United States
CATEGORIES:Education & Formation
ORGANIZER;CN="Buck Mountain Episcopal Church":MAILTO:webmaster@buckmountainchurch.org
END:VEVENT
END:VCALENDAR