BEGIN:VCALENDAR
VERSION:2.0
PRODID:-//Buck Mountain Episcopal Church - ECPv6.15.20//NONSGML v1.0//EN
CALSCALE:GREGORIAN
METHOD:PUBLISH
X-ORIGINAL-URL:https://buckmountainchurch.org
X-WR-CALDESC:Events for Buck Mountain Episcopal Church
REFRESH-INTERVAL;VALUE=DURATION:PT1H
X-Robots-Tag:noindex
X-PUBLISHED-TTL:PT1H
BEGIN:VTIMEZONE
TZID:America/New_York
BEGIN:DAYLIGHT
TZOFFSETFROM:-0500
TZOFFSETTO:-0400
TZNAME:EDT
DTSTART:20250309T070000
END:DAYLIGHT
BEGIN:STANDARD
TZOFFSETFROM:-0400
TZOFFSETTO:-0500
TZNAME:EST
DTSTART:20251102T060000
END:STANDARD
BEGIN:DAYLIGHT
TZOFFSETFROM:-0500
TZOFFSETTO:-0400
TZNAME:EDT
DTSTART:20260308T070000
END:DAYLIGHT
BEGIN:STANDARD
TZOFFSETFROM:-0400
TZOFFSETTO:-0500
TZNAME:EST
DTSTART:20261101T060000
END:STANDARD
BEGIN:DAYLIGHT
TZOFFSETFROM:-0500
TZOFFSETTO:-0400
TZNAME:EDT
DTSTART:20270314T070000
END:DAYLIGHT
BEGIN:STANDARD
TZOFFSETFROM:-0400
TZOFFSETTO:-0500
TZNAME:EST
DTSTART:20271107T060000
END:STANDARD
END:VTIMEZONE
BEGIN:VEVENT
DTSTART;TZID=America/New_York:20260315T103000
DTEND;TZID=America/New_York:20260315T114500
DTSTAMP:20260420T192940
CREATED:20260313T185713Z
LAST-MODIFIED:20260313T190106Z
UID:2146-1773570600-1773575100@buckmountainchurch.org
SUMMARY:Holy Eucharist
DESCRIPTION:
URL:https://buckmountainchurch.org/event/holy-eucharist-2026-03-15/
LOCATION:Buck Mountain Episcopal Church\, 4133 Earlysville Road\, Earlysville\, VA\, 22936\, United States
CATEGORIES:Worship Services
END:VEVENT
BEGIN:VEVENT
DTSTART;TZID=America/New_York:20260322T103000
DTEND;TZID=America/New_York:20260322T114500
DTSTAMP:20260420T192940
CREATED:20260313T185713Z
LAST-MODIFIED:20260322T210851Z
UID:2147-1774175400-1774179900@buckmountainchurch.org
SUMMARY:Holy Eucharist
DESCRIPTION:
URL:https://buckmountainchurch.org/event/holy-eucharist-2026-03-22/
LOCATION:Buck Mountain Episcopal Church\, 4133 Earlysville Road\, Earlysville\, VA\, 22936\, United States
CATEGORIES:Worship Services
END:VEVENT
BEGIN:VEVENT
DTSTART;TZID=America/New_York:20260329T103000
DTEND;TZID=America/New_York:20260329T114500
DTSTAMP:20260420T192940
CREATED:20260313T185713Z
LAST-MODIFIED:20260329T120658Z
UID:2148-1774780200-1774784700@buckmountainchurch.org
SUMMARY:Palm Sunday (Holy Eucharist)
DESCRIPTION:Weather permitting\, the palm procession will begin outdoors. \nWe need volunteers during coffee hour to help stuff our plastic Tomb Stones (formerly known as Easter Eggs).
URL:https://buckmountainchurch.org/event/holy-eucharist-2026-03-29/
LOCATION:Buck Mountain Episcopal Church\, 4133 Earlysville Road\, Earlysville\, VA\, 22936\, United States
CATEGORIES:Worship Services
END:VEVENT
BEGIN:VEVENT
DTSTART;TZID=America/New_York:20260331T193000
DTEND;TZID=America/New_York:20260331T193000
DTSTAMP:20260420T192940
CREATED:20260315T125138Z
LAST-MODIFIED:20260315T125138Z
UID:2223-1774985400-1774985400@buckmountainchurch.org
SUMMARY:Adult Tenebrae
DESCRIPTION:
URL:https://buckmountainchurch.org/event/adult-tenebrae/
LOCATION:Buck Mountain Episcopal Church\, 4133 Earlysville Road\, Earlysville\, VA\, 22936\, United States
CATEGORIES:Worship Services
ORGANIZER;CN="Buck Mountain Episcopal Church":MAILTO:webmaster@buckmountainchurch.org
END:VEVENT
END:VCALENDAR