BEGIN:VCALENDAR
VERSION:2.0
PRODID:-//Buck Mountain Episcopal Church - ECPv6.15.20//NONSGML v1.0//EN
CALSCALE:GREGORIAN
METHOD:PUBLISH
X-WR-CALNAME:Buck Mountain Episcopal Church
X-ORIGINAL-URL:https://buckmountainchurch.org
X-WR-CALDESC:Events for Buck Mountain Episcopal Church
REFRESH-INTERVAL;VALUE=DURATION:PT1H
X-Robots-Tag:noindex
X-PUBLISHED-TTL:PT1H
BEGIN:VTIMEZONE
TZID:America/New_York
BEGIN:DAYLIGHT
TZOFFSETFROM:-0500
TZOFFSETTO:-0400
TZNAME:EDT
DTSTART:20250309T070000
END:DAYLIGHT
BEGIN:STANDARD
TZOFFSETFROM:-0400
TZOFFSETTO:-0500
TZNAME:EST
DTSTART:20251102T060000
END:STANDARD
BEGIN:DAYLIGHT
TZOFFSETFROM:-0500
TZOFFSETTO:-0400
TZNAME:EDT
DTSTART:20260308T070000
END:DAYLIGHT
BEGIN:STANDARD
TZOFFSETFROM:-0400
TZOFFSETTO:-0500
TZNAME:EST
DTSTART:20261101T060000
END:STANDARD
BEGIN:DAYLIGHT
TZOFFSETFROM:-0500
TZOFFSETTO:-0400
TZNAME:EDT
DTSTART:20270314T070000
END:DAYLIGHT
BEGIN:STANDARD
TZOFFSETFROM:-0400
TZOFFSETTO:-0500
TZNAME:EST
DTSTART:20271107T060000
END:STANDARD
END:VTIMEZONE
BEGIN:VEVENT
DTSTART;TZID=America/New_York:20260607T103000
DTEND;TZID=America/New_York:20260607T114500
DTSTAMP:20260420T205703
CREATED:20260313T185714Z
LAST-MODIFIED:20260313T185714Z
UID:2158-1780828200-1780832700@buckmountainchurch.org
SUMMARY:Holy Eucharist
DESCRIPTION:
URL:https://buckmountainchurch.org/event/holy-eucharist-2026-06-07/
LOCATION:Buck Mountain Episcopal Church\, 4133 Earlysville Road\, Earlysville\, VA\, 22936\, United States
CATEGORIES:Worship Services
END:VEVENT
BEGIN:VEVENT
DTSTART;TZID=America/New_York:20260607T170000
DTEND;TZID=America/New_York:20260607T180000
DTSTAMP:20260420T205703
CREATED:20260313T185712Z
LAST-MODIFIED:20260313T185712Z
UID:2136-1780851600-1780855200@buckmountainchurch.org
SUMMARY:Celtic Holy Eucharist
DESCRIPTION:
URL:https://buckmountainchurch.org/event/celtic-holy-eucharist-2026-06-07/
LOCATION:Buck Mountain Episcopal Church\, 4133 Earlysville Road\, Earlysville\, VA\, 22936\, United States
CATEGORIES:Worship Services
END:VEVENT
BEGIN:VEVENT
DTSTART;TZID=America/New_York:20260614T103000
DTEND;TZID=America/New_York:20260614T114500
DTSTAMP:20260420T205703
CREATED:20260313T185714Z
LAST-MODIFIED:20260313T185714Z
UID:2159-1781433000-1781437500@buckmountainchurch.org
SUMMARY:Holy Eucharist
DESCRIPTION:
URL:https://buckmountainchurch.org/event/holy-eucharist-2026-06-14/
LOCATION:Buck Mountain Episcopal Church\, 4133 Earlysville Road\, Earlysville\, VA\, 22936\, United States
CATEGORIES:Worship Services
END:VEVENT
BEGIN:VEVENT
DTSTART;TZID=America/New_York:20260621T103000
DTEND;TZID=America/New_York:20260621T114500
DTSTAMP:20260420T205703
CREATED:20260313T185714Z
LAST-MODIFIED:20260313T185714Z
UID:2160-1782037800-1782042300@buckmountainchurch.org
SUMMARY:Holy Eucharist
DESCRIPTION:
URL:https://buckmountainchurch.org/event/holy-eucharist-2026-06-21/
LOCATION:Buck Mountain Episcopal Church\, 4133 Earlysville Road\, Earlysville\, VA\, 22936\, United States
CATEGORIES:Worship Services
END:VEVENT
BEGIN:VEVENT
DTSTART;TZID=America/New_York:20260628T103000
DTEND;TZID=America/New_York:20260628T114500
DTSTAMP:20260420T205703
CREATED:20260313T185714Z
LAST-MODIFIED:20260313T185714Z
UID:2161-1782642600-1782647100@buckmountainchurch.org
SUMMARY:Holy Eucharist
DESCRIPTION:
URL:https://buckmountainchurch.org/event/holy-eucharist-2026-06-28/
LOCATION:Buck Mountain Episcopal Church\, 4133 Earlysville Road\, Earlysville\, VA\, 22936\, United States
CATEGORIES:Worship Services
END:VEVENT
END:VCALENDAR