BEGIN:VCALENDAR
VERSION:2.0
PRODID:-//Buck Mountain Episcopal Church - ECPv6.15.20//NONSGML v1.0//EN
CALSCALE:GREGORIAN
METHOD:PUBLISH
X-ORIGINAL-URL:https://buckmountainchurch.org
X-WR-CALDESC:Events for Buck Mountain Episcopal Church
REFRESH-INTERVAL;VALUE=DURATION:PT1H
X-Robots-Tag:noindex
X-PUBLISHED-TTL:PT1H
BEGIN:VTIMEZONE
TZID:America/New_York
BEGIN:DAYLIGHT
TZOFFSETFROM:-0500
TZOFFSETTO:-0400
TZNAME:EDT
DTSTART:20260308T070000
END:DAYLIGHT
BEGIN:STANDARD
TZOFFSETFROM:-0400
TZOFFSETTO:-0500
TZNAME:EST
DTSTART:20261101T060000
END:STANDARD
BEGIN:DAYLIGHT
TZOFFSETFROM:-0500
TZOFFSETTO:-0400
TZNAME:EDT
DTSTART:20270314T070000
END:DAYLIGHT
BEGIN:STANDARD
TZOFFSETFROM:-0400
TZOFFSETTO:-0500
TZNAME:EST
DTSTART:20271107T060000
END:STANDARD
BEGIN:DAYLIGHT
TZOFFSETFROM:-0500
TZOFFSETTO:-0400
TZNAME:EDT
DTSTART:20280312T070000
END:DAYLIGHT
BEGIN:STANDARD
TZOFFSETFROM:-0400
TZOFFSETTO:-0500
TZNAME:EST
DTSTART:20281105T060000
END:STANDARD
END:VTIMEZONE
BEGIN:VEVENT
DTSTART;TZID=America/New_York:20270103T103000
DTEND;TZID=America/New_York:20270103T114500
DTSTAMP:20260425T093452
CREATED:20260313T185716Z
LAST-MODIFIED:20260313T185716Z
UID:2188-1798972200-1798976700@buckmountainchurch.org
SUMMARY:Holy Eucharist
DESCRIPTION:
URL:https://buckmountainchurch.org/event/holy-eucharist-2027-01-03/
LOCATION:Buck Mountain Episcopal Church\, 4133 Earlysville Road\, Earlysville\, VA\, 22936\, United States
CATEGORIES:Worship Services
END:VEVENT
BEGIN:VEVENT
DTSTART;TZID=America/New_York:20270103T170000
DTEND;TZID=America/New_York:20270103T180000
DTSTAMP:20260425T093452
CREATED:20260313T185713Z
LAST-MODIFIED:20260313T185713Z
UID:2143-1798995600-1798999200@buckmountainchurch.org
SUMMARY:Celtic Holy Eucharist
DESCRIPTION:
URL:https://buckmountainchurch.org/event/celtic-holy-eucharist-2027-01-03/
LOCATION:Buck Mountain Episcopal Church\, 4133 Earlysville Road\, Earlysville\, VA\, 22936\, United States
CATEGORIES:Worship Services
END:VEVENT
BEGIN:VEVENT
DTSTART;TZID=America/New_York:20270110T103000
DTEND;TZID=America/New_York:20270110T114500
DTSTAMP:20260425T093452
CREATED:20260313T185716Z
LAST-MODIFIED:20260313T185716Z
UID:2189-1799577000-1799581500@buckmountainchurch.org
SUMMARY:Holy Eucharist
DESCRIPTION:
URL:https://buckmountainchurch.org/event/holy-eucharist-2027-01-10/
LOCATION:Buck Mountain Episcopal Church\, 4133 Earlysville Road\, Earlysville\, VA\, 22936\, United States
CATEGORIES:Worship Services
END:VEVENT
BEGIN:VEVENT
DTSTART;TZID=America/New_York:20270117T103000
DTEND;TZID=America/New_York:20270117T114500
DTSTAMP:20260425T093452
CREATED:20260313T185716Z
LAST-MODIFIED:20260313T185716Z
UID:2190-1800181800-1800186300@buckmountainchurch.org
SUMMARY:Holy Eucharist
DESCRIPTION:
URL:https://buckmountainchurch.org/event/holy-eucharist-2027-01-17/
LOCATION:Buck Mountain Episcopal Church\, 4133 Earlysville Road\, Earlysville\, VA\, 22936\, United States
CATEGORIES:Worship Services
END:VEVENT
BEGIN:VEVENT
DTSTART;TZID=America/New_York:20270124T103000
DTEND;TZID=America/New_York:20270124T114500
DTSTAMP:20260425T093452
CREATED:20260313T185716Z
LAST-MODIFIED:20260313T185716Z
UID:2191-1800786600-1800791100@buckmountainchurch.org
SUMMARY:Holy Eucharist
DESCRIPTION:
URL:https://buckmountainchurch.org/event/holy-eucharist-2027-01-24/
LOCATION:Buck Mountain Episcopal Church\, 4133 Earlysville Road\, Earlysville\, VA\, 22936\, United States
CATEGORIES:Worship Services
END:VEVENT
BEGIN:VEVENT
DTSTART;TZID=America/New_York:20270131T103000
DTEND;TZID=America/New_York:20270131T114500
DTSTAMP:20260425T093452
CREATED:20260313T185716Z
LAST-MODIFIED:20260313T185716Z
UID:2192-1801391400-1801395900@buckmountainchurch.org
SUMMARY:Holy Eucharist
DESCRIPTION:
URL:https://buckmountainchurch.org/event/holy-eucharist-2027-01-31/
LOCATION:Buck Mountain Episcopal Church\, 4133 Earlysville Road\, Earlysville\, VA\, 22936\, United States
CATEGORIES:Worship Services
END:VEVENT
END:VCALENDAR